BEGIN:VCALENDAR
VERSION:2.0
PRODID:-//ChamberMaster//Event Calendar 2.0//EN
METHOD:PUBLISH
X-PUBLISHED-TTL:P3D
REFRESH-INTERVAL:P3D
CALSCALE:GREGORIAN
BEGIN:VEVENT
DTSTART:20260505T163000Z
DTEND:20260505T180000Z
X-MICROSOFT-CDO-ALLDAYEVENT:FALSE
SUMMARY:WIB SPEED NETWORKING LUNCHEON
DESCRIPTION:Join us for this annual Speed Networking Event! Want to meet more business professionals in the Granbury/Hood County area? Then join the Women in Business Committee for this popular event. This is sure to sell out quickly so make sure you get your ticket early. Registration closes on May 1st at 5:00 pm. \n\n\n\nThank you to our Presenting Sponsor: Olakino Wellness & Beyond\n\nThank you to our Refreshment Sponsor: Select Agent Services\n\n\n\nWIB SPEED NETWORKING:\n\nMay 5\, 2026\n\n11:30 am to 1 pm \n\n\n\nDavid Southern Lake Granbury Conference Center\n\n621 East Pearl Street       \n\n\n\n$30 for members\n\n$40 for non-members\n\n\n\nWhat to expect: \n\n\n	When you arrive\, you will be given a card with three table numbers on it.\n	At each rotation\, you will move to a new table. Table captains will ask questions during the event and prompt everyone at the table to take a turn answering them. \n	At each table\, you will be asked to share business cards with everyone there\, so make sure you bring at least 30 cards with you to the event. \n\n\nEvent Timeline: \n\n11:00 am     Doors open/registration begins\n\n11:30 am     1st rotation\n\n12:00 pm     2nd rotation\n\n12:30 pm     Final rotation\n\n12:55 pm     Door prizes \n\n\n\nQuestions? Email taylor@granburychamber.com for more info! \n\n\nCHAMBER RESERVATION AND REFUND POLICY: No refunds are offered for Chamber sponsorships\, services\, products\, or events other than food service events as stated below.\n\n \n\nDue to catering guarantees\, breakfast\, luncheon\, or dinner reservations not canceled 48 hours before the event will be billed.
X-ALT-DESC;FMTTYPE=text/html:&nbsp\; &nbsp\;\n<p style="font-size: 16px\; min-height: 1.5em\; margin: 0px\; caret-color: rgb(39\, 37\, 33)\; color: rgb(39\, 37\, 33)\; font-family: avenir-lt-w01_35-light1475496\, sans-serif\;">Join us for this annual&nbsp\;<strong>Speed Networking Even</strong>t! Want to meet more business professionals in the Granbury/Hood County area? Then join the Women in Business Committee for this popular event. This is sure to sell out quickly so make sure you get your ticket early.&nbsp\;<em><strong>Registration closes on May 1st at 5:00 pm.&nbsp\;<br />\n<br />\nThank you to our Presenting Sponsor: Olakino Wellness &amp\; Beyond<br />\nThank you to our Refreshment&nbsp\;Sponsor: Select Agent Services</strong></em><br />\n<br />\nWIB SPEED NETWORKING:<br />\n<span style="font-family: tahoma\;">May 5\, 2026</span><br style="font-family: tahoma\;" />\n<span style="font-family: tahoma\;">11:30 am to 1 pm&nbsp\;</span><br />\n<br />\n<span style="color: rgb(51\, 51\, 51)\; font-family: tahoma\; background-color: rgb(255\, 255\, 255)\;">David Southern Lake Granbury Conference Center</span><br style="color: rgb(51\, 51\, 51)\; font-family: tahoma\; background-color: rgb(255\, 255\, 255)\;" />\n<span style="color: rgb(51\, 51\, 51)\; font-family: tahoma\; background-color: rgb(255\, 255\, 255)\;">621 East Pearl Street&nbsp\; &nbsp\; &nbsp\; &nbsp\;<br />\n<br />\n$30 for members</span><br style="color: rgb(51\, 51\, 51)\; font-family: tahoma\; background-color: rgb(255\, 255\, 255)\;" />\n<span style="color: rgb(51\, 51\, 51)\; font-family: tahoma\; background-color: rgb(255\, 255\, 255)\;">$40 for non-members</span><br />\n<br />\n<strong>What to expect:&nbsp\;</strong></p>\n\n<ul font-size:="" style="padding: 0px 40px\; color: rgb(51\, 51\, 51)\; font-family: sans-serif\, Arial\, Verdana\, &quot\;Trebuchet MS&quot\;\; font-size: 13px\;" trebuchet="">\n	<li style="font-size: 16px\; min-height: 1.5em\; margin: 0px\; caret-color: rgb(39\, 37\, 33)\; color: rgb(39\, 37\, 33)\; font-family: avenir-lt-w01_35-light1475496\, sans-serif\;">When you arrive\, you will be given a card with three table numbers on it.</li>\n	<li style="font-size: 16px\; min-height: 1.5em\; margin: 0px\; caret-color: rgb(39\, 37\, 33)\; color: rgb(39\, 37\, 33)\; font-family: avenir-lt-w01_35-light1475496\, sans-serif\;">At each rotation\, you will move to a new table. Table captains will ask questions during the event and prompt everyone at the table to take a turn answering them.&nbsp\;</li>\n	<li style="font-size: 16px\; min-height: 1.5em\; margin: 0px\; caret-color: rgb(39\, 37\, 33)\; color: rgb(39\, 37\, 33)\; font-family: avenir-lt-w01_35-light1475496\, sans-serif\;">At each table\, you will be asked to share business cards with everyone there\, so make sure you bring at least 30 cards with you to the event.&nbsp\;</li>\n</ul>\n\n<p style="font-size: 16px\; min-height: 1.5em\; margin: 0px\; caret-color: rgb(39\, 37\, 33)\; color: rgb(39\, 37\, 33)\; font-family: avenir-lt-w01_35-light1475496\, sans-serif\;"><strong>Event Timeline:&nbsp\;</strong><br />\n11:00 am&nbsp\;&nbsp\; &nbsp\; Doors open/registration begins<br />\n11:30 am&nbsp\;&nbsp\; &nbsp\; 1st rotation<br />\n12:00 pm&nbsp\;&nbsp\; &nbsp\; 2nd rotation<br />\n12:30 pm&nbsp\;&nbsp\; &nbsp\; Final rotation<br />\n12:55 pm&nbsp\;&nbsp\; &nbsp\; Door prizes&nbsp\;<br />\n<br />\nQuestions? Email taylor@granburychamber.com for more info!&nbsp\;</p>\n<br style="color: rgb(51\, 51\, 51)\; font-family: sans-serif\, Arial\, Verdana\, &quot\;Trebuchet MS&quot\;\; font-size: 13px\;" />\n<span font-size:="" style="color: rgb(51\, 51\, 51)\; font-family: sans-serif\, Arial\, Verdana\, &quot\;Trebuchet MS&quot\;\; font-size: 13px\;" trebuchet=""><span style="background-image: initial\; background-position: initial\; background-size: initial\; background-repeat: initial\; background-attachment: initial\; background-origin: initial\; background-clip: initial\;"><span style="font-family: verdana\, sans-serif\;">CHAMBER RESERVATION AND REFUND POLICY: No refunds are offered for Chamber sponsorships\, services\, products\, or events other than food service events as stated below.<br />\n&nbsp\;</span></span><br />\n<span style="font-family: verdana\, sans-serif\;"><span style="background-image: initial\; background-position: initial\; background-size: initial\; background-repeat: initial\; background-attachment: initial\; background-origin: initial\; background-clip: initial\;">Due to catering guarantees\, breakfast\, luncheon\, or dinner reservations not&nbsp\;canceled&nbsp\;48 hours before the event will be billed.</span></span></span>
LOCATION:David Southern Lake Granbury Conference Center
UID:e.2304.57652
SEQUENCE:3
DTSTAMP:20260425T192728Z
URL:http://granbury.chambermaster.com/events/details/wib-luncheon-57652
END:VEVENT

END:VCALENDAR
