BEGIN:VCALENDAR
VERSION:2.0
PRODID:-//ChamberMaster//Event Calendar 2.0//EN
METHOD:PUBLISH
X-PUBLISHED-TTL:P3D
REFRESH-INTERVAL:P3D
CALSCALE:GREGORIAN
BEGIN:VEVENT
DTSTART:20260721T220000Z
DTEND:20260722T010000Z
X-MICROSOFT-CDO-ALLDAYEVENT:FALSE
SUMMARY:WIB AFTER-HOURS- Bingo\, Bling & Runway Dreams
DESCRIPTION:The Women In Business team is combining two of their popular events to bring you an amazing evening of fashion\, food/beverages and BINGO!  Grab your girlfriends and come out for an evening filled with laughter and fun.  We are also offering a new opportunity.  You now have the option to reserve a table of 8 for you and your friends!  YOU WON'T WANT TO MISS OUT ON THE FUN!
X-ALT-DESC;FMTTYPE=text/html:<span style="font-size:16px\;"><span style="font-family:arial\;">The Women In Business team is combining two of their popular events to bring you an amazing evening of fashion\, food/beverages and BINGO!&nbsp\; Grab your girlfriends and come out for an evening filled with laughter and fun.&nbsp\; We are also offering a new opportunity.&nbsp\; You now have the option to reserve a table of 8 for you and your friends!&nbsp\; <strong><span style="color: rgb(51\, 51\, 51)\; background-color: rgb(255\, 255\, 255)\;">YOU WON&#39\;T WANT TO MISS OUT ON THE FUN!</span></strong></span></span>
LOCATION:La Bella Luna 7700 Glen Rose Hwy Granbury\, TX 76048
UID:e.2304.57659
SEQUENCE:3
DTSTAMP:20260422T043153Z
URL:http://granbury.chambermaster.com/events/details/wib-after-hours-57659
END:VEVENT

END:VCALENDAR
